BEGIN:VCALENDAR
VERSION:2.0
PRODID:-//CJMVM - ECPv6.15.20//NONSGML v1.0//EN
CALSCALE:GREGORIAN
METHOD:PUBLISH
X-ORIGINAL-URL:https://cjmvm.fr
X-WR-CALDESC:Évènements pour CJMVM
REFRESH-INTERVAL;VALUE=DURATION:PT1H
X-Robots-Tag:noindex
X-PUBLISHED-TTL:PT1H
BEGIN:VTIMEZONE
TZID:Europe/Paris
BEGIN:DAYLIGHT
TZOFFSETFROM:+0100
TZOFFSETTO:+0200
TZNAME:CEST
DTSTART:20240331T010000
END:DAYLIGHT
BEGIN:STANDARD
TZOFFSETFROM:+0200
TZOFFSETTO:+0100
TZNAME:CET
DTSTART:20241027T010000
END:STANDARD
BEGIN:DAYLIGHT
TZOFFSETFROM:+0100
TZOFFSETTO:+0200
TZNAME:CEST
DTSTART:20250330T010000
END:DAYLIGHT
BEGIN:STANDARD
TZOFFSETFROM:+0200
TZOFFSETTO:+0100
TZNAME:CET
DTSTART:20251026T010000
END:STANDARD
BEGIN:DAYLIGHT
TZOFFSETFROM:+0100
TZOFFSETTO:+0200
TZNAME:CEST
DTSTART:20260329T010000
END:DAYLIGHT
BEGIN:STANDARD
TZOFFSETFROM:+0200
TZOFFSETTO:+0100
TZNAME:CET
DTSTART:20261025T010000
END:STANDARD
END:VTIMEZONE
BEGIN:VEVENT
DTSTART;TZID=Europe/Paris:20250304T120000
DTEND;TZID=Europe/Paris:20250304T160000
DTSTAMP:20260424T100459
CREATED:20250220T172931Z
LAST-MODIFIED:20250220T180058Z
UID:1568870-1741089600-1741104000@cjmvm.fr
SUMMARY:Visite chocolaterie COLAS
DESCRIPTION:La visite de la chocolaterie est programmée à 14h00 le Mardi 4 Mars et dure environ 1h00 à 1h30. L’adresse de la chocolaterie figure ci-dessous et la visite sera gratuite. \nElle sera précédée par un déjeuner au restaurant à 12h00 « Chez ALFRED » Place de mareil 78124  Mareil sur Mauldre Tél : 01 34 92 77 28\n \nIl y a possibilité de parking en face du restaurant ou aussi au parking de la gare en remontant vers la gare à 150 mètres. \nLe coût du déjeuner est de 22€ pour une formule entrée plat ou plat dessert le midi en semaine.
URL:https://cjmvm.fr/evenement/visite-chocolaterie-colas/
LOCATION:Chocolaterie COLAS\, 21 bis boulevard Paul Barré\, Maule\, 78580
END:VEVENT
BEGIN:VEVENT
DTSTART;TZID=Europe/Paris:20250308T200000
DTEND;TZID=Europe/Paris:20250308T235900
DTSTAMP:20260424T100459
CREATED:20241118T160617Z
LAST-MODIFIED:20250119T234923Z
UID:1443660-1741464000-1741478340@cjmvm.fr
SUMMARY:Soirée Danses Ecossaises
DESCRIPTION:Notre traditionnelle soirée d’initiation aux danses écossaises\, sous la houlette du Heather Group\, aura lieu cette année le samedi 8 mars 2025 à 20h00. \nNous dégusterons vos desserts\, ceux que vous apporterez individuellement et c’est toujours un grand plaisir d’apprécier la variété des desserts proposés. \nAlors n’hésitez pas d’en parler autour de vous\, les danses écossaises\, c’est un moment de convivialité partagé ou tout le monde s’amuse sans pour autant savoir danser. \nNous terminerons la soirée bien entendu par des danses traditionnelles\, à commencer par le madison et à la demande ensuite. \nOn vous attend\, venez nombreux ! \n 
URL:https://cjmvm.fr/evenement/soiree-danses-ecossaises-5/
LOCATION:Salle polyvalente d’Aulnay sur Mauldre\, 12\, rue du Val\, Aulnay sur Mauldre\, Ile de France\, 78126\, France
ATTACH;FMTTYPE=image/jpeg:https://cjmvm.fr/wp-content/uploads/2025/01/soiree-danses-8-mars-2025-v0.jpg
END:VEVENT
BEGIN:VEVENT
DTSTART;TZID=Europe/Paris:20250315T200000
DTEND;TZID=Europe/Paris:20250315T233000
DTSTAMP:20260424T100459
CREATED:20241118T161410Z
LAST-MODIFIED:20250207T184703Z
UID:1443703-1742068800-1742081400@cjmvm.fr
SUMMARY:Soirée "Beer and Rugby" France Ecosse
DESCRIPTION:Soirée permettant de nous retrouver en toute convivialité pour partager la retransmission du match du tournoi des six nations 2025 FRANCE-ECOSSE sur grand écran. \nENTREE GRATUITE. Des boissons et desserts seront proposés pour agrémenter la soirée. \nQue le meilleur gagne…!
URL:https://cjmvm.fr/evenement/beer-and-rugby/
LOCATION:Salle CHAPLIN-Place Henri DUNANT\, Place Henri DUNAN\, Maule\, Ile de France\, 78580\, France
ATTACH;FMTTYPE=image/jpeg:https://cjmvm.fr/wp-content/uploads/2025/02/affiche-soiree-beer-and-rugby-a4-v2-version-site-web-scaled.jpg
END:VEVENT
END:VCALENDAR