BEGIN:VCALENDAR
VERSION:2.0
PRODID:-//CJMVM - ECPv6.15.20//NONSGML v1.0//EN
CALSCALE:GREGORIAN
METHOD:PUBLISH
X-ORIGINAL-URL:https://cjmvm.fr
X-WR-CALDESC:Évènements pour CJMVM
REFRESH-INTERVAL;VALUE=DURATION:PT1H
X-Robots-Tag:noindex
X-PUBLISHED-TTL:PT1H
BEGIN:VTIMEZONE
TZID:Europe/Paris
BEGIN:DAYLIGHT
TZOFFSETFROM:+0100
TZOFFSETTO:+0200
TZNAME:CEST
DTSTART:20220327T010000
END:DAYLIGHT
BEGIN:STANDARD
TZOFFSETFROM:+0200
TZOFFSETTO:+0100
TZNAME:CET
DTSTART:20221030T010000
END:STANDARD
BEGIN:DAYLIGHT
TZOFFSETFROM:+0100
TZOFFSETTO:+0200
TZNAME:CEST
DTSTART:20230326T010000
END:DAYLIGHT
BEGIN:STANDARD
TZOFFSETFROM:+0200
TZOFFSETTO:+0100
TZNAME:CET
DTSTART:20231029T010000
END:STANDARD
BEGIN:DAYLIGHT
TZOFFSETFROM:+0100
TZOFFSETTO:+0200
TZNAME:CEST
DTSTART:20240331T010000
END:DAYLIGHT
BEGIN:STANDARD
TZOFFSETFROM:+0200
TZOFFSETTO:+0100
TZNAME:CET
DTSTART:20241027T010000
END:STANDARD
END:VTIMEZONE
BEGIN:VEVENT
DTSTART;TZID=Europe/Paris:20230310T200000
DTEND;TZID=Europe/Paris:20230310T230000
DTSTAMP:20260425T182703
CREATED:20230310T190000Z
LAST-MODIFIED:20230117T222118Z
UID:653640-1678478400-1678489200@cjmvm.fr
SUMMARY:AGO exercice 2022
DESCRIPTION:AGO annuelle avec présentation des rapport moral et financier\, élections de renouvellement de membres du conseil d’administration. \nPot de l’amitié à la suite.
URL:https://cjmvm.fr/evenement/ago-exercice-2022/
LOCATION:Salle CHAPLIN-Place Henri DUNANT\, Place Henri DUNAN\, Maule\, Ile de France\, 78580\, France
END:VEVENT
BEGIN:VEVENT
DTSTART;TZID=Europe/Paris:20230318T200000
DTEND;TZID=Europe/Paris:20230319T003000
DTSTAMP:20260425T182703
CREATED:20230318T190000Z
LAST-MODIFIED:20230207T234421Z
UID:653668-1679169600-1679185800@cjmvm.fr
SUMMARY:Soirée Danses écossaises
DESCRIPTION:Entrée gratuite de la soirée\, mais il vous faut apporter un dessert à partager : gâteau\, crèmes dessert\, crêpes\, fruits\, etc… ou tout autre dessert à votre convenance. \nLe bar sera payant pour les boissons proposées : bière du 30ème anniversaire du jumelage\, vin blanc ou rosé\, champagne\, coca cola \, jus de fruits. \nEau\, café et thé seront offerts. \nNOTA : stationnement des véhicules parking de la gare ou parking Intermarché. \nLa soirée sera animée par Alice et son Heather Group de Bezu St Eloi. \nEn fin de soirée\, nous terminerons par quelques danses modernes pour ceux qui le souhaitent. \nRenseignements pour inscription et dessert à partager sur affiche jointe.
URL:https://cjmvm.fr/evenement/soiree-danses-ecossaises-3/
LOCATION:Salle polyvalente de Mareil sur mauldre\, 4 bis\, rue Christian Pouillard\, Mareil sur Mauldre\, Ile de France\, 78124\, France
ATTACH;FMTTYPE=image/jpeg:https://cjmvm.fr/wp-content/uploads/2023/02/MC-soiree-danses-ecossaises.v2.jpg
END:VEVENT
END:VCALENDAR