BEGIN:VCALENDAR
VERSION:2.0
PRODID:-//CJMVM - ECPv6.15.20//NONSGML v1.0//EN
CALSCALE:GREGORIAN
METHOD:PUBLISH
X-WR-CALNAME:CJMVM
X-ORIGINAL-URL:https://cjmvm.fr
X-WR-CALDESC:Évènements pour CJMVM
REFRESH-INTERVAL;VALUE=DURATION:PT1H
X-Robots-Tag:noindex
X-PUBLISHED-TTL:PT1H
BEGIN:VTIMEZONE
TZID:Europe/Paris
BEGIN:DAYLIGHT
TZOFFSETFROM:+0100
TZOFFSETTO:+0200
TZNAME:CEST
DTSTART:20220327T010000
END:DAYLIGHT
BEGIN:STANDARD
TZOFFSETFROM:+0200
TZOFFSETTO:+0100
TZNAME:CET
DTSTART:20221030T010000
END:STANDARD
BEGIN:DAYLIGHT
TZOFFSETFROM:+0100
TZOFFSETTO:+0200
TZNAME:CEST
DTSTART:20230326T010000
END:DAYLIGHT
BEGIN:STANDARD
TZOFFSETFROM:+0200
TZOFFSETTO:+0100
TZNAME:CET
DTSTART:20231029T010000
END:STANDARD
BEGIN:DAYLIGHT
TZOFFSETFROM:+0100
TZOFFSETTO:+0200
TZNAME:CEST
DTSTART:20240331T010000
END:DAYLIGHT
BEGIN:STANDARD
TZOFFSETFROM:+0200
TZOFFSETTO:+0100
TZNAME:CET
DTSTART:20241027T010000
END:STANDARD
END:VTIMEZONE
BEGIN:VEVENT
DTSTART;TZID=Europe/Paris:20230127T200000
DTEND;TZID=Europe/Paris:20230127T233000
DTSTAMP:20260425T205813
CREATED:20230117T221749Z
LAST-MODIFIED:20230122T215819Z
UID:695685-1674849600-1674862200@cjmvm.fr
SUMMARY:Soupe écossaise et Ceilidh
DESCRIPTION:Le comité de Jumelage de Achères/Stonehaven propose une soirée  le 27 janvier 2023 à 20h00 à la salle Bussière 68\, rue Georges-Bourgoin 78260Achères pour notre traditionnelle soupe écossaise accompagnée par un cèilidh. \nParticipation:  8€ à régler sur place\, confirmation de votre présence avant le 13 janvier 2023. \nNOTA: la soupe écossaise est une soupe de légumes avec des céréales\, servie copieusement avec du pain\, elle sera suivie d’un buffet de desserts. \n 
URL:https://cjmvm.fr/evenement/soupe-ecossaise-et-ceilidh/
LOCATION:Salle Bussière Achères\, 68\, rue Georges-Bourgoin\, Achères\, 78260
END:VEVENT
END:VCALENDAR