BEGIN:VCALENDAR
VERSION:2.0
PRODID:-//CJMVM - ECPv6.15.20//NONSGML v1.0//EN
CALSCALE:GREGORIAN
METHOD:PUBLISH
X-WR-CALNAME:CJMVM
X-ORIGINAL-URL:https://cjmvm.fr
X-WR-CALDESC:Évènements pour CJMVM
REFRESH-INTERVAL;VALUE=DURATION:PT1H
X-Robots-Tag:noindex
X-PUBLISHED-TTL:PT1H
BEGIN:VTIMEZONE
TZID:Europe/Paris
BEGIN:DAYLIGHT
TZOFFSETFROM:+0100
TZOFFSETTO:+0200
TZNAME:CEST
DTSTART:20210328T010000
END:DAYLIGHT
BEGIN:STANDARD
TZOFFSETFROM:+0200
TZOFFSETTO:+0100
TZNAME:CET
DTSTART:20211031T010000
END:STANDARD
BEGIN:DAYLIGHT
TZOFFSETFROM:+0100
TZOFFSETTO:+0200
TZNAME:CEST
DTSTART:20220327T010000
END:DAYLIGHT
BEGIN:STANDARD
TZOFFSETFROM:+0200
TZOFFSETTO:+0100
TZNAME:CET
DTSTART:20221030T010000
END:STANDARD
BEGIN:DAYLIGHT
TZOFFSETFROM:+0100
TZOFFSETTO:+0200
TZNAME:CEST
DTSTART:20230326T010000
END:DAYLIGHT
BEGIN:STANDARD
TZOFFSETFROM:+0200
TZOFFSETTO:+0100
TZNAME:CET
DTSTART:20231029T010000
END:STANDARD
END:VTIMEZONE
BEGIN:VEVENT
DTSTART;TZID=Europe/Paris:20221203T100000
DTEND;TZID=Europe/Paris:20221204T180000
DTSTAMP:20260425T221804
CREATED:20221203T090000Z
LAST-MODIFIED:20221130T230853Z
UID:499465-1670061600-1670176800@cjmvm.fr
SUMMARY:Marché de la Saint Nicolas
DESCRIPTION:Le marché de la Saint Nicolas est organisé par la ville de Maule\, tous les renseignements à ce sujet sont accessibles sur le site Internet de la ville par le lien suivant: \nhttps://www.maule.fr/agenda/101-marche-de-la-saint-nicolas
URL:https://cjmvm.fr/evenement/marche-de-la-saint-nicolas/
LOCATION:Place de la Mairie 78580 Maule
END:VEVENT
BEGIN:VEVENT
DTSTART;TZID=Europe/Paris:20221210T100000
DTEND;TZID=Europe/Paris:20221211T180000
DTSTAMP:20260425T221804
CREATED:20221210T090000Z
LAST-MODIFIED:20230827T082155Z
UID:499479-1670666400-1670781600@cjmvm.fr
SUMMARY:Marché des saveurs
DESCRIPTION:Le marché des saveurs  est organisé par la ville d’Aulnay-sur-Mauldre\, tous les renseignements à ce sujet sont accessibles sur le site Internet de la ville par le lien suivant:\n\nhttps://aulnaysurmauldre.com/marche-des-saveurs-de-noel-le-samedi-11-et-dimanche-12-decembre
URL:https://cjmvm.fr/evenement/marche-des-saveurs/
LOCATION:Place de la Mairie 78126 Aulnay sur Mauldre
ORGANIZER;CN="Mairie d'Aulnay sur Mauldre":MAILTO:viepratique@aulnay-sur-mauldre.fr
END:VEVENT
END:VCALENDAR