BEGIN:VCALENDAR
VERSION:2.0
PRODID:-//CJMVM - ECPv6.15.20//NONSGML v1.0//EN
CALSCALE:GREGORIAN
METHOD:PUBLISH
X-WR-CALNAME:CJMVM
X-ORIGINAL-URL:https://cjmvm.fr
X-WR-CALDESC:Évènements pour CJMVM
REFRESH-INTERVAL;VALUE=DURATION:PT1H
X-Robots-Tag:noindex
X-PUBLISHED-TTL:PT1H
BEGIN:VTIMEZONE
TZID:Europe/Paris
BEGIN:DAYLIGHT
TZOFFSETFROM:+0100
TZOFFSETTO:+0200
TZNAME:CEST
DTSTART:20210328T010000
END:DAYLIGHT
BEGIN:STANDARD
TZOFFSETFROM:+0200
TZOFFSETTO:+0100
TZNAME:CET
DTSTART:20211031T010000
END:STANDARD
BEGIN:DAYLIGHT
TZOFFSETFROM:+0100
TZOFFSETTO:+0200
TZNAME:CEST
DTSTART:20220327T010000
END:DAYLIGHT
BEGIN:STANDARD
TZOFFSETFROM:+0200
TZOFFSETTO:+0100
TZNAME:CET
DTSTART:20221030T010000
END:STANDARD
BEGIN:DAYLIGHT
TZOFFSETFROM:+0100
TZOFFSETTO:+0200
TZNAME:CEST
DTSTART:20230326T010000
END:DAYLIGHT
BEGIN:STANDARD
TZOFFSETFROM:+0200
TZOFFSETTO:+0100
TZNAME:CET
DTSTART:20231029T010000
END:STANDARD
END:VTIMEZONE
BEGIN:VEVENT
DTSTART;TZID=Europe/Paris:20220715T110000
DTEND;TZID=Europe/Paris:20220717T170000
DTSTAMP:20260426T050106
CREATED:20220715T090000Z
LAST-MODIFIED:20220107T143828Z
UID:452906-1657882800-1658077200@cjmvm.fr
SUMMARY:Fêtes écossaises d'Aubigny sur Nère
DESCRIPTION:Le programme n’est pas encore défini et peut être adapté à la situation pandémique du moment. Il sera articulé autour de la journée de référence du samedi 16 juillet avec de base: \n\naller et retour en voiture dans la journée \, covoiturage possible\nparticipation aux Ripailles du samedi midi\ndéfilés et démonstrations dans la journée du samedi\ndîner\,feu d’artifice et retour en région parisienne à la demande ( ou séjour prolongé mais chacun s’organise)\n\nCette sortie à Aubigny sera partagé avec les participants des communes faisant partie du groupe InterJumelages. \nPlus de précisions dans les semaines à venir. \n 
URL:https://cjmvm.fr/evenement/fetes-ecossaises-daubigny-sur-nere/
LOCATION:Aubigny sur Nère\, Aubigny sur Nere\, 18700
ATTACH;FMTTYPE=image/jpeg:https://cjmvm.fr/wp-content/uploads/2022/01/DSC05648.jpg
END:VEVENT
END:VCALENDAR