BEGIN:VCALENDAR
VERSION:2.0
PRODID:-//CJMVM - ECPv6.15.20//NONSGML v1.0//EN
CALSCALE:GREGORIAN
METHOD:PUBLISH
X-WR-CALNAME:CJMVM
X-ORIGINAL-URL:https://cjmvm.fr
X-WR-CALDESC:Évènements pour CJMVM
REFRESH-INTERVAL;VALUE=DURATION:PT1H
X-Robots-Tag:noindex
X-PUBLISHED-TTL:PT1H
BEGIN:VTIMEZONE
TZID:Europe/Paris
BEGIN:DAYLIGHT
TZOFFSETFROM:+0100
TZOFFSETTO:+0200
TZNAME:CEST
DTSTART:20230326T010000
END:DAYLIGHT
BEGIN:STANDARD
TZOFFSETFROM:+0200
TZOFFSETTO:+0100
TZNAME:CET
DTSTART:20231029T010000
END:STANDARD
BEGIN:DAYLIGHT
TZOFFSETFROM:+0100
TZOFFSETTO:+0200
TZNAME:CEST
DTSTART:20240331T010000
END:DAYLIGHT
BEGIN:STANDARD
TZOFFSETFROM:+0200
TZOFFSETTO:+0100
TZNAME:CET
DTSTART:20241027T010000
END:STANDARD
BEGIN:DAYLIGHT
TZOFFSETFROM:+0100
TZOFFSETTO:+0200
TZNAME:CEST
DTSTART:20250330T010000
END:DAYLIGHT
BEGIN:STANDARD
TZOFFSETFROM:+0200
TZOFFSETTO:+0100
TZNAME:CET
DTSTART:20251026T010000
END:STANDARD
END:VTIMEZONE
BEGIN:VEVENT
DTSTART;TZID=Europe/Paris:20241201T123000
DTEND;TZID=Europe/Paris:20241201T180000
DTSTAMP:20260424T134357
CREATED:20241013T075109Z
LAST-MODIFIED:20241013T075109Z
UID:1397214-1733056200-1733076000@cjmvm.fr
SUMMARY:St Andrew's Noon à Villennes sur Seine
DESCRIPTION:Venez participer à cette journée St Andrew’s Noon à Villennes sur Seine incluant un Scootish Ceilidh en après midi. \nSans oublier le haggis qui sera servi pendant le déjeuner…!
URL:https://cjmvm.fr/evenement/st-andrews-noon-a-villennes-sur-seine/
LOCATION:Salle des Arts\, Villennes sur Seine\, 78670\, France
ATTACH;FMTTYPE=image/webp:https://cjmvm.fr/wp-content/uploads/2024/10/flyerinscrip_st-andrews-noon_01-12-2024.webp
ORGANIZER;CN="Jumelage Villennes / Largo":MAILTO:jumelage.villennes.largo@gmail.com
END:VEVENT
END:VCALENDAR