BEGIN:VCALENDAR
VERSION:2.0
PRODID:-//CJMVM - ECPv6.15.20//NONSGML v1.0//EN
CALSCALE:GREGORIAN
METHOD:PUBLISH
X-ORIGINAL-URL:https://cjmvm.fr
X-WR-CALDESC:Évènements pour CJMVM
REFRESH-INTERVAL;VALUE=DURATION:PT1H
X-Robots-Tag:noindex
X-PUBLISHED-TTL:PT1H
BEGIN:VTIMEZONE
TZID:Europe/Paris
BEGIN:DAYLIGHT
TZOFFSETFROM:+0100
TZOFFSETTO:+0200
TZNAME:CEST
DTSTART:20230326T010000
END:DAYLIGHT
BEGIN:STANDARD
TZOFFSETFROM:+0200
TZOFFSETTO:+0100
TZNAME:CET
DTSTART:20231029T010000
END:STANDARD
BEGIN:DAYLIGHT
TZOFFSETFROM:+0100
TZOFFSETTO:+0200
TZNAME:CEST
DTSTART:20240331T010000
END:DAYLIGHT
BEGIN:STANDARD
TZOFFSETFROM:+0200
TZOFFSETTO:+0100
TZNAME:CET
DTSTART:20241027T010000
END:STANDARD
BEGIN:DAYLIGHT
TZOFFSETFROM:+0100
TZOFFSETTO:+0200
TZNAME:CEST
DTSTART:20250330T010000
END:DAYLIGHT
BEGIN:STANDARD
TZOFFSETFROM:+0200
TZOFFSETTO:+0100
TZNAME:CET
DTSTART:20251026T010000
END:STANDARD
END:VTIMEZONE
BEGIN:VEVENT
DTSTART;TZID=Europe/Paris:20241116T190000
DTEND;TZID=Europe/Paris:20241116T235900
DTSTAMP:20260424T154304
CREATED:20240501T082754Z
LAST-MODIFIED:20240923T220838Z
UID:1174157-1731783600-1731801540@cjmvm.fr
SUMMARY:Soirée St Andrew à Bezu St Eloi
DESCRIPTION:Les modalités de participation sont définies dans l’affiche publicitaire attachée à cette page web. \nUn covoiturage sera mis en place au départ de la salle des fêtes de Maule pour se rendre à Bezu St Eloi.
URL:https://cjmvm.fr/evenement/soiree-st-andrew-a-bezu-st-eloi-2/
LOCATION:Bézu St Eloi (27660)\, Salle Robert Jorelle\, Bezu St Eloi\, 27660\, France
ATTACH;FMTTYPE=image/jpeg:https://cjmvm.fr/wp-content/uploads/2024/05/Afffiche-St-Andrew-Bezu.jpg
END:VEVENT
END:VCALENDAR