BEGIN:VCALENDAR
VERSION:2.0
PRODID:-//CJMVM - ECPv6.15.20//NONSGML v1.0//EN
CALSCALE:GREGORIAN
METHOD:PUBLISH
X-WR-CALNAME:CJMVM
X-ORIGINAL-URL:https://cjmvm.fr
X-WR-CALDESC:Évènements pour CJMVM
REFRESH-INTERVAL;VALUE=DURATION:PT1H
X-Robots-Tag:noindex
X-PUBLISHED-TTL:PT1H
BEGIN:VTIMEZONE
TZID:Europe/Paris
BEGIN:DAYLIGHT
TZOFFSETFROM:+0100
TZOFFSETTO:+0200
TZNAME:CEST
DTSTART:20230326T010000
END:DAYLIGHT
BEGIN:STANDARD
TZOFFSETFROM:+0200
TZOFFSETTO:+0100
TZNAME:CET
DTSTART:20231029T010000
END:STANDARD
BEGIN:DAYLIGHT
TZOFFSETFROM:+0100
TZOFFSETTO:+0200
TZNAME:CEST
DTSTART:20240331T010000
END:DAYLIGHT
BEGIN:STANDARD
TZOFFSETFROM:+0200
TZOFFSETTO:+0100
TZNAME:CET
DTSTART:20241027T010000
END:STANDARD
BEGIN:DAYLIGHT
TZOFFSETFROM:+0100
TZOFFSETTO:+0200
TZNAME:CEST
DTSTART:20250330T010000
END:DAYLIGHT
BEGIN:STANDARD
TZOFFSETFROM:+0200
TZOFFSETTO:+0100
TZNAME:CET
DTSTART:20251026T010000
END:STANDARD
END:VTIMEZONE
BEGIN:VEVENT
DTSTART;TZID=Europe/Paris:20240601T100000
DTEND;TZID=Europe/Paris:20240609T180000
DTSTAMP:20260424T224634
CREATED:20240529T163132Z
LAST-MODIFIED:20240529T163132Z
UID:1208370-1717236000-1717956000@cjmvm.fr
SUMMARY:Exposition 2024 Club Photo Maule
DESCRIPTION:Le thème de l’exposition pour cette année: Macrophotographie ou Photo Rapprochée. Voir le calendrier des jours et heures d’ouverture de l’exposition dans le programme joint. \nVous pourrez y découvrir les photos des membres du club mais aussi 20 photos du Photo Club de Carnoustie. \nAlors venez nous rencontrer et découvrir l’ensemble des œuvres proposées. N’oubliez pas de consulter les horaires d’ouverture sur l’affiche jointe.
URL:https://cjmvm.fr/evenement/exposition-2024-club-photo-maule/
LOCATION:Espace Marcel TREBOIT\, MAULE\, 78124\, France
ATTACH;FMTTYPE=image/jpeg:https://cjmvm.fr/wp-content/uploads/2024/05/Affiche-Exposition-2024-scaled.jpg
END:VEVENT
END:VCALENDAR