BEGIN:VCALENDAR
VERSION:2.0
PRODID:-//CJMVM - ECPv6.15.20//NONSGML v1.0//EN
CALSCALE:GREGORIAN
METHOD:PUBLISH
X-WR-CALNAME:CJMVM
X-ORIGINAL-URL:https://cjmvm.fr
X-WR-CALDESC:Évènements pour CJMVM
REFRESH-INTERVAL;VALUE=DURATION:PT1H
X-Robots-Tag:noindex
X-PUBLISHED-TTL:PT1H
BEGIN:VTIMEZONE
TZID:Europe/Paris
BEGIN:DAYLIGHT
TZOFFSETFROM:+0100
TZOFFSETTO:+0200
TZNAME:CEST
DTSTART:20230326T010000
END:DAYLIGHT
BEGIN:STANDARD
TZOFFSETFROM:+0200
TZOFFSETTO:+0100
TZNAME:CET
DTSTART:20231029T010000
END:STANDARD
BEGIN:DAYLIGHT
TZOFFSETFROM:+0100
TZOFFSETTO:+0200
TZNAME:CEST
DTSTART:20240331T010000
END:DAYLIGHT
BEGIN:STANDARD
TZOFFSETFROM:+0200
TZOFFSETTO:+0100
TZNAME:CET
DTSTART:20241027T010000
END:STANDARD
BEGIN:DAYLIGHT
TZOFFSETFROM:+0100
TZOFFSETTO:+0200
TZNAME:CEST
DTSTART:20250330T010000
END:DAYLIGHT
BEGIN:STANDARD
TZOFFSETFROM:+0200
TZOFFSETTO:+0100
TZNAME:CET
DTSTART:20251026T010000
END:STANDARD
END:VTIMEZONE
BEGIN:VEVENT
DTSTART;TZID=Europe/Paris:20240204T120000
DTEND;TZID=Europe/Paris:20240204T180000
DTSTAMP:20260425T035826
CREATED:20231201T093255Z
LAST-MODIFIED:20231208T225616Z
UID:978455-1707048000-1707069600@cjmvm.fr
SUMMARY:Burns Noon
DESCRIPTION:Notre Burns Supper habituel devient un Burns Noon en 2024 et se déroulera sous forme d’un déjeuner respectant les traditions du « supper » écossais. On y retrouvera notamment les célébrations traditionnelles du poète Robert BURNS à savoir : \n\nles Grâces\,\nla présentation du haggis \,\nla critique des hommes aux femmes\,\nla réponse des femmes aux hommes\,\nImmortal Memory\,\n\nle tout accompagné au son de la cornemuse par notre piper. \nUne tombola sera proposé avec de nombreux lots. Le groupe « Wild Spoon » animera en musique et chansons les intermèdes du déjeuner et des danses écossaises permettront de clore en fin d’après midi ce Burns Noon en toute gaieté. \nVoir l’affiche publicitaire ci-jointe. \nPour le règlement via HelloAsso\, scannez le QR code ci-dessous pour accéder au site de paiement et récupérer votre réservation et justificatif de paiement:
URL:https://cjmvm.fr/evenement/burns-noon/
LOCATION:Salle « Les Deux Scènes » à Maule (78580)\, Place Henri DUNAN\, Maule\, Ile de France\, 78580\, France
ATTACH;FMTTYPE=image/jpeg:https://cjmvm.fr/wp-content/uploads/2023/12/Affiche-BURNS-Noon-04-02-2024-Web-scaled.jpg
END:VEVENT
END:VCALENDAR