BEGIN:VCALENDAR
VERSION:2.0
PRODID:-//CJMVM - ECPv6.15.20//NONSGML v1.0//EN
CALSCALE:GREGORIAN
METHOD:PUBLISH
X-ORIGINAL-URL:https://cjmvm.fr
X-WR-CALDESC:Évènements pour CJMVM
REFRESH-INTERVAL;VALUE=DURATION:PT1H
X-Robots-Tag:noindex
X-PUBLISHED-TTL:PT1H
BEGIN:VTIMEZONE
TZID:Europe/Paris
BEGIN:DAYLIGHT
TZOFFSETFROM:+0100
TZOFFSETTO:+0200
TZNAME:CEST
DTSTART:20220327T010000
END:DAYLIGHT
BEGIN:STANDARD
TZOFFSETFROM:+0200
TZOFFSETTO:+0100
TZNAME:CET
DTSTART:20221030T010000
END:STANDARD
BEGIN:DAYLIGHT
TZOFFSETFROM:+0100
TZOFFSETTO:+0200
TZNAME:CEST
DTSTART:20230326T010000
END:DAYLIGHT
BEGIN:STANDARD
TZOFFSETFROM:+0200
TZOFFSETTO:+0100
TZNAME:CET
DTSTART:20231029T010000
END:STANDARD
BEGIN:DAYLIGHT
TZOFFSETFROM:+0100
TZOFFSETTO:+0200
TZNAME:CEST
DTSTART:20240331T010000
END:DAYLIGHT
BEGIN:STANDARD
TZOFFSETFROM:+0200
TZOFFSETTO:+0100
TZNAME:CET
DTSTART:20241027T010000
END:STANDARD
END:VTIMEZONE
BEGIN:VEVENT
DTSTART;TZID=Europe/Paris:20230515T080000
DTEND;TZID=Europe/Paris:20230522T220000
DTSTAMP:20260425T172834
CREATED:20230515T060000Z
LAST-MODIFIED:20230501T074414Z
UID:695824-1684137600-1684792800@cjmvm.fr
SUMMARY:Semaine écossaise 30 ans de Jumelage
DESCRIPTION:Après avoir fêté les 30ème et 25ème anniversaires à Maule et Aulnay sur Mauldre en octobre 2022\, d’autres festivités vont avoir lieu durant la semaine écossaise à Carnoustie du 15 au 22 mai 2023. Dix voyageurs doivent effectuer le voyage Outre Manche. On pourra même dire que ce sera le 31ème anniversaire puisque la date de signature de la charte de jumelage à Carnoustie était le 9 mai 1992. \nEn début de semaine\, le président de la Communauté de Commune de Carnoustie(CCC) David RORIE recevra le groupe de français à son domicile pour un déjeuner. \nDeux jours de visites sont organisés dans le courant de la semaine  dans la région des Borders au sud d’Edimbourg. Durant ces deux jours\, l’occasion sera donnée aux voyageurs de visiter la grande tapisserie d’Ecosse à Galashiels\, bourg écossais de la région des Scottish Borders construit de part et d’autre de la rivière Gala et proche du fleuve Tweed.\n \nUn avant gout de la visite est visible ici. \nD’autres sorties sont prévues notamment sur Arbroath\, Easthaven et Dundee. Une réunion InterComités aura lieu en fin de semaine pour préparer nos rencontres à venir \, notamment pour 2024. \nLe programme détaillé de la semaine écossaise à Carnoustie est accessible ici. \n 
URL:https://cjmvm.fr/evenement/semaine-ecossaise-30eme-anniversaire-2/
LOCATION:Carnoustie\, Carnoustie\, Ecosse\, Royaume-Uni
ATTACH;FMTTYPE=image/jpeg:https://cjmvm.fr/wp-content/uploads/2020/09/Drapeaux-francais-ecossais-recadre-scaled.jpg
END:VEVENT
END:VCALENDAR