BEGIN:VCALENDAR
VERSION:2.0
PRODID:-//CJMVM - ECPv6.15.20//NONSGML v1.0//EN
CALSCALE:GREGORIAN
METHOD:PUBLISH
X-ORIGINAL-URL:https://cjmvm.fr
X-WR-CALDESC:Évènements pour CJMVM
REFRESH-INTERVAL;VALUE=DURATION:PT1H
X-Robots-Tag:noindex
X-PUBLISHED-TTL:PT1H
BEGIN:VTIMEZONE
TZID:Europe/Paris
BEGIN:DAYLIGHT
TZOFFSETFROM:+0100
TZOFFSETTO:+0200
TZNAME:CEST
DTSTART:20220327T010000
END:DAYLIGHT
BEGIN:STANDARD
TZOFFSETFROM:+0200
TZOFFSETTO:+0100
TZNAME:CET
DTSTART:20221030T010000
END:STANDARD
BEGIN:DAYLIGHT
TZOFFSETFROM:+0100
TZOFFSETTO:+0200
TZNAME:CEST
DTSTART:20230326T010000
END:DAYLIGHT
BEGIN:STANDARD
TZOFFSETFROM:+0200
TZOFFSETTO:+0100
TZNAME:CET
DTSTART:20231029T010000
END:STANDARD
BEGIN:DAYLIGHT
TZOFFSETFROM:+0100
TZOFFSETTO:+0200
TZNAME:CEST
DTSTART:20240331T010000
END:DAYLIGHT
BEGIN:STANDARD
TZOFFSETFROM:+0200
TZOFFSETTO:+0100
TZNAME:CET
DTSTART:20241027T010000
END:STANDARD
END:VTIMEZONE
BEGIN:VEVENT
DTSTART;TZID=Europe/Paris:20230513T100000
DTEND;TZID=Europe/Paris:20230513T183000
DTSTAMP:20260425T171033
CREATED:20230117T225313Z
LAST-MODIFIED:20230430T214745Z
UID:695790-1683972000-1684002600@cjmvm.fr
SUMMARY:Marché européen à St Germain en Laye
DESCRIPTION:Dans le cadre de nos activités Inter-Jumelages\, l’Association des Amis du Jumelage de Saint-Germain-en-Laye propose de participer à leurs côtés au marché européen le samedi 13 mai 2023. Un stand partagé\, en accord avec la municipalité\, sera mis en place ce jour là. \nNous y exposerons sous forme de panneaux l’histoire et la généalogie des Maule d’Ecosse du 11ème au 21ème siècle à travers les seigneurs de Panmure\, les comtes de Panmure et de Dalhousie ainsi que la famille RAMSAY de laquelle on en a fait le tartan de notre jumelage. L’alliance franco-écossaise fera l’objet aussi d’un panneau la décrivant. \nSur le stand  Saint-Germanois\, il sera possible de déguster pour le déjeuner le traditionnel haggis mais aussi du saumon d’Écosse. Vous pourrez également acheter des spécialités écossaises : marmelades\, gâteaux\, haggis\, tartans. \nLe programme d’animation du marché européen est accessible ici. \nEn espérant vous y retrouver.
URL:https://cjmvm.fr/evenement/fete-de-leurope-a-st-germain-en-laye/
LOCATION:Place du Marché St Germain en Laye\, Place du Marché\, St Germain en Laye\, 78100
ATTACH;FMTTYPE=image/jpeg:https://cjmvm.fr/wp-content/uploads/2023/04/affiche-marche-europeen.jpg
END:VEVENT
END:VCALENDAR