BEGIN:VCALENDAR
VERSION:2.0
PRODID:-//CJMVM - ECPv6.15.20//NONSGML v1.0//EN
CALSCALE:GREGORIAN
METHOD:PUBLISH
X-ORIGINAL-URL:https://cjmvm.fr
X-WR-CALDESC:Évènements pour CJMVM
REFRESH-INTERVAL;VALUE=DURATION:PT1H
X-Robots-Tag:noindex
X-PUBLISHED-TTL:PT1H
BEGIN:VTIMEZONE
TZID:Europe/Paris
BEGIN:DAYLIGHT
TZOFFSETFROM:+0100
TZOFFSETTO:+0200
TZNAME:CEST
DTSTART:20220327T010000
END:DAYLIGHT
BEGIN:STANDARD
TZOFFSETFROM:+0200
TZOFFSETTO:+0100
TZNAME:CET
DTSTART:20221030T010000
END:STANDARD
BEGIN:DAYLIGHT
TZOFFSETFROM:+0100
TZOFFSETTO:+0200
TZNAME:CEST
DTSTART:20230326T010000
END:DAYLIGHT
BEGIN:STANDARD
TZOFFSETFROM:+0200
TZOFFSETTO:+0100
TZNAME:CET
DTSTART:20231029T010000
END:STANDARD
BEGIN:DAYLIGHT
TZOFFSETFROM:+0100
TZOFFSETTO:+0200
TZNAME:CEST
DTSTART:20240331T010000
END:DAYLIGHT
BEGIN:STANDARD
TZOFFSETFROM:+0200
TZOFFSETTO:+0100
TZNAME:CET
DTSTART:20241027T010000
END:STANDARD
END:VTIMEZONE
BEGIN:VEVENT
DTSTART;TZID=Europe/Paris:20230204T190000
DTEND;TZID=Europe/Paris:20230205T003000
DTSTAMP:20260425T205937
CREATED:20230204T180000Z
LAST-MODIFIED:20221222T152416Z
UID:653652-1675537200-1675557000@cjmvm.fr
SUMMARY:Burns Supper
DESCRIPTION:Le Burns Supper est organisé par le Comité de jumelage de St Germain en Laye/Ayr. Pas de Burns Supper en 2023 à Maule. \nLes modalités d’inscription ainsi que le tarif par personne sont accessibles dans le document ci-dessous : \ncoupon réponse inscription Burns Supper. \n 
URL:https://cjmvm.fr/evenement/burns-supper-2/
LOCATION:Bougival\, 57\, île de la Loge\, Bougival\, Ile de France\, 78380\, France
ATTACH;FMTTYPE=image/jpeg:https://cjmvm.fr/wp-content/uploads/2022/12/Affiche-Burns-Supper-St-Germain.jpg
END:VEVENT
END:VCALENDAR