BEGIN:VCALENDAR
VERSION:2.0
PRODID:-//CJMVM - ECPv6.15.20//NONSGML v1.0//EN
CALSCALE:GREGORIAN
METHOD:PUBLISH
X-WR-CALNAME:CJMVM
X-ORIGINAL-URL:https://cjmvm.fr
X-WR-CALDESC:Évènements pour CJMVM
REFRESH-INTERVAL;VALUE=DURATION:PT1H
X-Robots-Tag:noindex
X-PUBLISHED-TTL:PT1H
BEGIN:VTIMEZONE
TZID:Europe/Paris
BEGIN:DAYLIGHT
TZOFFSETFROM:+0100
TZOFFSETTO:+0200
TZNAME:CEST
DTSTART:20210328T010000
END:DAYLIGHT
BEGIN:STANDARD
TZOFFSETFROM:+0200
TZOFFSETTO:+0100
TZNAME:CET
DTSTART:20211031T010000
END:STANDARD
BEGIN:DAYLIGHT
TZOFFSETFROM:+0100
TZOFFSETTO:+0200
TZNAME:CEST
DTSTART:20220327T010000
END:DAYLIGHT
BEGIN:STANDARD
TZOFFSETFROM:+0200
TZOFFSETTO:+0100
TZNAME:CET
DTSTART:20221030T010000
END:STANDARD
BEGIN:DAYLIGHT
TZOFFSETFROM:+0100
TZOFFSETTO:+0200
TZNAME:CEST
DTSTART:20230326T010000
END:DAYLIGHT
BEGIN:STANDARD
TZOFFSETFROM:+0200
TZOFFSETTO:+0100
TZNAME:CET
DTSTART:20231029T010000
END:STANDARD
END:VTIMEZONE
BEGIN:VEVENT
DTSTART;TZID=Europe/Paris:20221126T203000
DTEND;TZID=Europe/Paris:20221127T003000
DTSTAMP:20260426T010321
CREATED:20221126T193000Z
LAST-MODIFIED:20221019T215540Z
UID:499408-1669494600-1669509000@cjmvm.fr
SUMMARY:Soirée St Andrew
DESCRIPTION:Le thème de la soirée ainsi que les modalités d’inscription seront précisées ultérieurement. Pour 2022\, la soirée St Andrew’s sera partagé avec nos partenaires de l’Inter-Jumelages et aura lieu sur la commune de St Germain en Laye. \nPetit rappel historique \nLe St Andrew’s Day est un peu la fête nationale écossaise. Cette journée n’est fériée que depuis 2007 seulement. Elle est marquée par des fêtes en tous genres\, suivies par des concerts où la cornemuse est reine. \nLa croix de Saint-André qui figure sur le drapeau écossais semble être l’un des plus vieux drapeaux au monde\, c’est l’emblème de l’Écosse. Elle est figurée en blanc sur le drapeau du pays. L’indépendance de l’Écosse viendrait à modifier considérablement la physionomie du drapeau du Royaume-Uni. \nEn Écosse\, sur le littoral est de la Mer du Nord\, une ville nommée St Andrews est célèbre de par son université qui est la troisième plus ancienne du monde anglophone après celles d’Oxford et celle de Cambridge. Elle est aussi le berceau du golf\, avec les parcours parmi les plus réputés au monde. Ils accueillent le prestigieux Open britannique (The open Championship)\, le plus ancien tournoi de golf du monde qui se dispute au mois de juillet. Dans la ville\, le jour de la Saint-Andrew\, six incroyables chefs régionaux se réunissent pour vous proposer un dîner exceptionnel.
URL:https://cjmvm.fr/evenement/soiree-st-andrew/
LOCATION:Bougival\, 57\, île de la Loge\, Bougival\, Ile de France\, 78380\, France
ATTACH;FMTTYPE=image/jpeg:https://cjmvm.fr/wp-content/uploads/2022/10/Affiche-St-Andrew-2022-St-germain.jpg
END:VEVENT
END:VCALENDAR